BEGIN:VCALENDAR
PRODID:-//http://statistik.d-u-v.org//PHP ultracalendar//EN
VERSION:2.0
METHOD:PUBLISH
BEGIN:VEVENT
DTSTAMP:20260424T172729
CREATED:20240403T151358
UID:1777051649.0.01836900-106234@statistik.d-u-v.org
SUMMARY:Bukidnon Ultra - 160km
DESCRIPTION: Bukidnon Ultra - 160km\n
  \n
  
DTSTART:20230908T000000
DTEND:20230909T235900
LOCATION:Malaybalay City\, PHI
URL:https://www.webscorer.com/racedetails?raceid=327872&did=407432
CATEGORIES:Ultramarathon
CONTACT:
CLASS:PUBLIC
PRIORITY:5
TRANSP:OPAQUE
END:VEVENT
END:VCALENDAR
