BEGIN:VCALENDAR
PRODID:-//http://statistik.d-u-v.org//PHP ultracalendar//EN
VERSION:2.0
METHOD:PUBLISH
BEGIN:VEVENT
DTSTAMP:20260420T060749
CREATED:20240402T091256
UID:1776665269.0.02386400-106212@statistik.d-u-v.org
SUMMARY:Pune UltraMarathon
DESCRIPTION: Pune UltraMarathon\n
  \n
  puneultramarathon[at]gmail.com
DTSTART:20231203T063000
DTEND:00000000T235900
LOCATION:Pune City\, IND
URL:https://itra.run/Races/RaceDetails/Pune.Ultra.Marathon.PuneUltraMarathon.50km/2023/88179
CATEGORIES:Ultramarathon
CONTACT:
CLASS:PUBLIC
PRIORITY:5
TRANSP:OPAQUE
END:VEVENT
END:VCALENDAR
