BEGIN:VCALENDAR
PRODID:-//http://statistik.d-u-v.org//PHP ultracalendar//EN
VERSION:2.0
METHOD:PUBLISH
BEGIN:VEVENT
DTSTAMP:20260423T164620
CREATED:20240401T204421
UID:1776962780.0.19671400-106202@statistik.d-u-v.org
SUMMARY:Kullamannen Sprint Ultra 100 km
DESCRIPTION: Kullamannen Sprint Ultra 100 km\n
  Per Sjögren\n
  per.sjogren[at]kullamannen.com; info[at]kullamannen.com
DTSTART:20241101T220000
DTEND:20241102T180000
LOCATION:Höganäs\, SWE
URL:https://kullamannen.utmb.world/races/sprint-ultra-100-km
CATEGORIES:Ultramarathon
CONTACT:Per Sjögren
CLASS:PUBLIC
PRIORITY:5
TRANSP:OPAQUE
END:VEVENT
END:VCALENDAR
