BEGIN:VCALENDAR
PRODID:-//http://statistik.d-u-v.org//PHP ultracalendar//EN
VERSION:2.0
METHOD:PUBLISH
BEGIN:VEVENT
DTSTAMP:20260423T043643
CREATED:20240331T141410
UID:1776919003.0.59622100-106179@statistik.d-u-v.org
SUMMARY:5. 6 Stunden Lauf Wiesbaden
DESCRIPTION: 5. 6 Stunden Lauf Wiesbaden\n
  René- werunwiesbaden[at]outlook.de\n
  werunwiesbaden[at]outlook.de
DTSTART:20240810T090000
DTEND:20240810T150000
LOCATION:Wiesbaden\, GER
URL:https://www.facebook.com/events/767817715301821/
CATEGORIES:Ultramarathon
CONTACT:René- werunwiesbaden[at]outlook.de
CLASS:PUBLIC
PRIORITY:5
TRANSP:OPAQUE
END:VEVENT
END:VCALENDAR
