BEGIN:VCALENDAR
PRODID:-//http://statistik.d-u-v.org//PHP ultracalendar//EN
VERSION:2.0
METHOD:PUBLISH
BEGIN:VEVENT
DTSTAMP:20260423T025003
CREATED:20240331T140316
UID:1776912603.0.43486400-106170@statistik.d-u-v.org
SUMMARY:Malatra Endurance Run 6h (Day)
DESCRIPTION: Malatra Endurance Run 6h (Day)\n
  Razif Yahya\n
  malatraevents[at]gmail.com
DTSTART:20240212T020000
DTEND:00000000T235900
LOCATION:Putrajaya\, MAS
URL:https://www.malatraevents.com/mer2024
CATEGORIES:Ultramarathon
CONTACT:Razif Yahya
CLASS:PUBLIC
PRIORITY:5
TRANSP:OPAQUE
END:VEVENT
END:VCALENDAR
