BEGIN:VCALENDAR
PRODID:-//http://statistik.d-u-v.org//PHP ultracalendar//EN
VERSION:2.0
METHOD:PUBLISH
BEGIN:VEVENT
DTSTAMP:20260419T164829
CREATED:20240329T141448
UID:1776617309.0.32151000-106140@statistik.d-u-v.org
SUMMARY:Jumla Rara Ultra Marathon
DESCRIPTION: Jumla Rara Ultra Marathon\n
  \n
  info[at]karnalisports.com
DTSTART:20240413T060000
DTEND:00000000T235900
LOCATION:Jumla\, NEP
URL:https://karnalisports.com/trail-race/jrum-5th-marathon/
CATEGORIES:Ultramarathon
CONTACT:
CLASS:PUBLIC
PRIORITY:5
TRANSP:OPAQUE
END:VEVENT
END:VCALENDAR
