BEGIN:VCALENDAR
PRODID:-//http://statistik.d-u-v.org//PHP ultracalendar//EN
VERSION:2.0
METHOD:PUBLISH
BEGIN:VEVENT
DTSTAMP:20260420T053132
CREATED:20240325T201650
UID:1776663092.0.12599200-106055@statistik.d-u-v.org
SUMMARY:24hrs Sittard - 100mi Split
DESCRIPTION: 24hrs Sittard - 100mi Split\n
  Luciën Thijssen\n
  lucien.thijssen[at]gmail.com
DTSTART:20240323T160000
DTEND:20240324T160000
LOCATION:Sittard\, NED
URL:https://www.24hrssittard.com/
CATEGORIES:Ultramarathon
CONTACT:Luciën Thijssen
CLASS:PUBLIC
PRIORITY:5
TRANSP:OPAQUE
END:VEVENT
END:VCALENDAR
