BEGIN:VCALENDAR
PRODID:-//http://statistik.d-u-v.org//PHP ultracalendar//EN
VERSION:2.0
METHOD:PUBLISH
BEGIN:VEVENT
DTSTAMP:20260424T201128
CREATED:20240325T102217
UID:1777061488.0.72044600-106043@statistik.d-u-v.org
SUMMARY:Space Pirate 33.3Miles
DESCRIPTION: Space Pirate 33.3Miles\n
  \n
  spacepirate100ultra[at]gmail.com
DTSTART:20240224T060000
DTEND:20240225T130000
LOCATION:Port Canaveral, FL\, USA
URL:https://www.spacepirate100.com/info
CATEGORIES:Ultramarathon
CONTACT:
CLASS:PUBLIC
PRIORITY:5
TRANSP:OPAQUE
END:VEVENT
END:VCALENDAR
