BEGIN:VCALENDAR
PRODID:-//http://statistik.d-u-v.org//PHP ultracalendar//EN
VERSION:2.0
METHOD:PUBLISH
BEGIN:VEVENT
DTSTAMP:20260420T044139
CREATED:20240324T170609
UID:1776660099.0.11501100-106023@statistik.d-u-v.org
SUMMARY:6h-Weingässchen Infinite Loop
DESCRIPTION: 6h-Weingässchen Infinite Loop\n
  Thomas Maurer\n
  thomas.maurer[at]schwabacher-citylauf.de
DTSTART:20250316T120000
DTEND:00000000T235900
LOCATION:Schwabach\, GER
URL:https://www.goldenemeilenrunning.de/
CATEGORIES:Ultramarathon
CONTACT:Thomas Maurer
CLASS:PUBLIC
PRIORITY:5
TRANSP:OPAQUE
END:VEVENT
END:VCALENDAR
