BEGIN:VCALENDAR
PRODID:-//http://statistik.d-u-v.org//PHP ultracalendar//EN
VERSION:2.0
METHOD:PUBLISH
BEGIN:VEVENT
DTSTAMP:20260420T005801
CREATED:20240323T080054
UID:1776646681.0.19750400-105958@statistik.d-u-v.org
SUMMARY:Sandhills Trail & Ultra Festival 30 Hour Run
DESCRIPTION: Sandhills Trail & Ultra Festival 30 Hour Run\n
  Matthew Hammersmith\n
  
DTSTART:20250215T000000
DTEND:20250216T235900
LOCATION:Columbia, SC\, USA
URL:https://runsignup.com/Race/SC/Columbia/Sandhills
CATEGORIES:Ultramarathon
CONTACT:Matthew Hammersmith
CLASS:PUBLIC
PRIORITY:5
TRANSP:OPAQUE
END:VEVENT
END:VCALENDAR
