BEGIN:VCALENDAR
PRODID:-//http://statistik.d-u-v.org//PHP ultracalendar//EN
VERSION:2.0
METHOD:PUBLISH
BEGIN:VEVENT
DTSTAMP:20260420T035211
CREATED:20240322T150334
UID:1776657131.0.10168700-105940@statistik.d-u-v.org
SUMMARY:3 of 7 Project Trail Race
DESCRIPTION: 3 of 7 Project Trail Race\n
  \n
  3of7project[at]gmail.com
DTSTART:20240210T080000
DTEND:00000000T235900
LOCATION:Summerville, GA\, USA
URL:https://3of7project.com/
CATEGORIES:Ultramarathon
CONTACT:
CLASS:PUBLIC
PRIORITY:5
TRANSP:OPAQUE
END:VEVENT
END:VCALENDAR
