BEGIN:VCALENDAR
PRODID:-//http://statistik.d-u-v.org//PHP ultracalendar//EN
VERSION:2.0
METHOD:PUBLISH
BEGIN:VEVENT
DTSTAMP:20260423T024115
CREATED:20240320T121122
UID:1776912075.0.03697200-105838@statistik.d-u-v.org
SUMMARY:Elsie Enduro Trail Run
DESCRIPTION: Elsie Enduro Trail Run\n
  \n
  elsieenduro[at]gmail.com
DTSTART:20250222T080000
DTEND:20250223T040000
LOCATION:Ringgold, GA\, USA
URL:https://ultrasignup.com/register.aspx?did=114490
CATEGORIES:Ultramarathon
CONTACT:
CLASS:PUBLIC
PRIORITY:5
TRANSP:OPAQUE
END:VEVENT
END:VCALENDAR
