BEGIN:VCALENDAR
PRODID:-//http://statistik.d-u-v.org//PHP ultracalendar//EN
VERSION:2.0
METHOD:PUBLISH
BEGIN:VEVENT
DTSTAMP:20260420T052244
CREATED:20240318T101528
UID:1776662564.0.18305200-105827@statistik.d-u-v.org
SUMMARY:Night52 - Ultralauf über die Kraichgauhügel
DESCRIPTION: Night52 - Ultralauf über die Kraichgauhügel\n
  \n
  info[at]night52.de
DTSTART:20240713T174500
DTEND:00000000T235900
LOCATION:Bretten\, GER
URL:http://www.night52.de
CATEGORIES:Ultramarathon
CONTACT:
CLASS:PUBLIC
PRIORITY:5
TRANSP:OPAQUE
END:VEVENT
END:VCALENDAR
