BEGIN:VCALENDAR
PRODID:-//http://statistik.d-u-v.org//PHP ultracalendar//EN
VERSION:2.0
METHOD:PUBLISH
BEGIN:VEVENT
DTSTAMP:20260420T000712
CREATED:20240317T023940
UID:1776643632.0.23202000-105752@statistik.d-u-v.org
SUMMARY:Ultra-Trail Mt.Emei
DESCRIPTION: Ultra-Trail Mt.Emei\n
  \n
  xzg[at]utms.com.cn
DTSTART:20250419T200000
DTEND:20250420T160000
LOCATION:Leshan City\, CHN
URL:http://www.utms.com.cn
CATEGORIES:Ultramarathon
CONTACT:
CLASS:PUBLIC
PRIORITY:5
TRANSP:OPAQUE
END:VEVENT
END:VCALENDAR
