BEGIN:VCALENDAR
PRODID:-//http://statistik.d-u-v.org//PHP ultracalendar//EN
VERSION:2.0
METHOD:PUBLISH
BEGIN:VEVENT
DTSTAMP:20260426T004825
CREATED:20240317T022711
UID:1777164505.0.74869800-105748@statistik.d-u-v.org
SUMMARY:Ultra Trail Challenge Race Beijing Labagou
DESCRIPTION: Ultra Trail Challenge Race Beijing Labagou\n
  \n
  
DTSTART:20240519T060000
DTEND:00000000T235900
LOCATION:Beijing City\, CHN
URL:https://itra.run/Races/RaceDetails/2024.ULTRA..Race.Beijing.Labagou..Azalea.Race.50KM/2024/89427
CATEGORIES:Ultramarathon
CONTACT:
CLASS:PUBLIC
PRIORITY:5
TRANSP:OPAQUE
END:VEVENT
END:VCALENDAR
