BEGIN:VCALENDAR
PRODID:-//http://statistik.d-u-v.org//PHP ultracalendar//EN
VERSION:2.0
METHOD:PUBLISH
BEGIN:VEVENT
DTSTAMP:20260423T031626
CREATED:20240317T020841
UID:1776914186.0.14675300-105742@statistik.d-u-v.org
SUMMARY:Yangchun Jilongding Azalea Trail running race
DESCRIPTION: Yangchun Jilongding Azalea Trail running race\n
  \n
  cbnrace[at]163.com
DTSTART:20240427T080000
DTEND:00000000T235900
LOCATION:Yangchun City\, CHN
URL:https://itra.run/Races/RaceDetails/Yangchun.Jilongding.Azalea.50K/2024/90446
CATEGORIES:Ultramarathon
CONTACT:
CLASS:PUBLIC
PRIORITY:5
TRANSP:OPAQUE
END:VEVENT
END:VCALENDAR
