BEGIN:VCALENDAR
PRODID:-//http://statistik.d-u-v.org//PHP ultracalendar//EN
VERSION:2.0
METHOD:PUBLISH
BEGIN:VEVENT
DTSTAMP:20260421T183136
CREATED:20110423T221547
UID:1776796296.0.15043700-10566@statistik.d-u-v.org
SUMMARY:Les 6 heures du Petit Ney
DESCRIPTION: Les 6 heures du Petit Ney\n
  \n
  
DTSTART:19990513T000000
DTEND:00000000T235900
LOCATION:Paris\, FRA
URL:
CATEGORIES:Ultramarathon
CONTACT:
CLASS:PUBLIC
PRIORITY:5
TRANSP:OPAQUE
END:VEVENT
END:VCALENDAR
