BEGIN:VCALENDAR
PRODID:-//http://statistik.d-u-v.org//PHP ultracalendar//EN
VERSION:2.0
METHOD:PUBLISH
BEGIN:VEVENT
DTSTAMP:20260419T233429
CREATED:20240308T071051
UID:1776641669.0.94512700-105630@statistik.d-u-v.org
SUMMARY:Sillamäe Ultra 100km
DESCRIPTION: Sillamäe Ultra 100km\n
  Aet Kiisla\n
  aet.kiisla[at]gmail.com
DTSTART:20240921T100000
DTEND:00000000T235900
LOCATION:Sillamäe\, EST
URL:https://gurmeejooksud.ee/sillamaeultra/aasta-2024/
CATEGORIES:Ultramarathon
CONTACT:Aet Kiisla
CLASS:PUBLIC
PRIORITY:5
TRANSP:OPAQUE
END:VEVENT
END:VCALENDAR
