BEGIN:VCALENDAR
PRODID:-//http://statistik.d-u-v.org//PHP ultracalendar//EN
VERSION:2.0
METHOD:PUBLISH
BEGIN:VEVENT
DTSTAMP:20260425T180007
CREATED:20240305T171554
UID:1777140007.0.87133400-105610@statistik.d-u-v.org
SUMMARY:Taipei 12hr Ultra Marathon - 50km Split
DESCRIPTION: Taipei 12hr Ultra Marathon - 50km Split\n
  Frank Kuo, Race director\n
  frank.kuo.run[at]gmail.com
DTSTART:20240224T070000
DTEND:00000000T235900
LOCATION:Taipei City\, TPE
URL:https://docs.google.com/document/d/1oXpc7FIknDPu_SEq3i11axJgigdcqsl3y1UuuZQLtWI/edit
CATEGORIES:Ultramarathon
CONTACT:Frank Kuo, Race director
CLASS:PUBLIC
PRIORITY:5
TRANSP:OPAQUE
END:VEVENT
END:VCALENDAR
