BEGIN:VCALENDAR
PRODID:-//http://statistik.d-u-v.org//PHP ultracalendar//EN
VERSION:2.0
METHOD:PUBLISH
BEGIN:VEVENT
DTSTAMP:20260425T180038
CREATED:20240227T163602
UID:1777140038.0.21697500-105526@statistik.d-u-v.org
SUMMARY:Taipei 6hr Ultra Marathon Sunday Run - 50km Split
DESCRIPTION: Taipei 6hr Ultra Marathon Sunday Run - 50km Split\n
  Frank Kuo, Race director\n
  yhwang.ctau[at]gmail.com
DTSTART:20240225T070000
DTEND:00000000T235900
LOCATION:Taipei City\, TPE
URL:https://docs.google.com/document/d/1oXpc7FIknDPu_SEq3i11axJgigdcqsl3y1UuuZQLtWI/edit
CATEGORIES:Ultramarathon
CONTACT:Frank Kuo, Race director
CLASS:PUBLIC
PRIORITY:5
TRANSP:OPAQUE
END:VEVENT
END:VCALENDAR
