BEGIN:VCALENDAR
PRODID:-//http://statistik.d-u-v.org//PHP ultracalendar//EN
VERSION:2.0
METHOD:PUBLISH
BEGIN:VEVENT
DTSTAMP:20260420T000625
CREATED:20240227T101811
UID:1776643585.0.97445300-105491@statistik.d-u-v.org
SUMMARY:Frosty Fat Sass 6 Hour Run
DESCRIPTION: Frosty Fat Sass 6 Hour Run\n
  \n
  
DTSTART:20240127T090000
DTEND:00000000T235900
LOCATION:West Orange, NJ\, USA
URL:https://ultrarunning.com/calendar/event/frosty-fat-sass
CATEGORIES:Ultramarathon
CONTACT:
CLASS:PUBLIC
PRIORITY:5
TRANSP:OPAQUE
END:VEVENT
END:VCALENDAR
