BEGIN:VCALENDAR
PRODID:-//http://statistik.d-u-v.org//PHP ultracalendar//EN
VERSION:2.0
METHOD:PUBLISH
BEGIN:VEVENT
DTSTAMP:20260419T164840
CREATED:20240226T143205
UID:1776617320.0.88311900-105471@statistik.d-u-v.org
SUMMARY:Folsom Lake Sweetwater Trail Run
DESCRIPTION: Folsom Lake Sweetwater Trail Run\n
  \n
  troy[at]tctruns.com
DTSTART:20240127T000000
DTEND:00000000T235900
LOCATION:Folsom, CA\, USA
URL:https://tctruns.com/folsom-lake-sweetwater-trail-run/
CATEGORIES:Ultramarathon
CONTACT:
CLASS:PUBLIC
PRIORITY:5
TRANSP:OPAQUE
END:VEVENT
END:VCALENDAR
