BEGIN:VCALENDAR
PRODID:-//http://statistik.d-u-v.org//PHP ultracalendar//EN
VERSION:2.0
METHOD:PUBLISH
BEGIN:VEVENT
DTSTAMP:20260423T031523
CREATED:20240226T135435
UID:1776914123.0.75032100-105468@statistik.d-u-v.org
SUMMARY:Angela Ivory 24 Hour Memorial Run
DESCRIPTION: Angela Ivory 24 Hour Memorial Run\n
  \n
  genebruckert[at]gmail.com
DTSTART:20240120T083000
DTEND:20240121T083000
LOCATION:Felton, DE\, USA
URL:http://ultrasignup.com/register.aspx?did=57931
CATEGORIES:Ultramarathon
CONTACT:
CLASS:PUBLIC
PRIORITY:5
TRANSP:OPAQUE
END:VEVENT
END:VCALENDAR
