BEGIN:VCALENDAR
PRODID:-//http://statistik.d-u-v.org//PHP ultracalendar//EN
VERSION:2.0
METHOD:PUBLISH
BEGIN:VEVENT
DTSTAMP:20260423T085505
CREATED:20110418T174556
UID:1776934505.0.67455800-10540@statistik.d-u-v.org
SUMMARY:Copenhagen ultramarathon 100km - 50km Split
DESCRIPTION: Copenhagen ultramarathon 100km - 50km Split\n
  Charley Prødel\n
  ultracharley[at]gmail.com
DTSTART:20110416T000000
DTEND:00000000T235900
LOCATION:Kopenhagen\, DEN
URL:http://www.copenhagen-ultramarathon.blogspot.com/
CATEGORIES:Ultramarathon
CONTACT:Charley Prødel
CLASS:PUBLIC
PRIORITY:5
TRANSP:OPAQUE
END:VEVENT
END:VCALENDAR
