BEGIN:VCALENDAR
PRODID:-//http://statistik.d-u-v.org//PHP ultracalendar//EN
VERSION:2.0
METHOD:PUBLISH
BEGIN:VEVENT
DTSTAMP:20260419T164304
CREATED:20240224T163112
UID:1776616984.0.16127600-105366@statistik.d-u-v.org
SUMMARY:Yankee Springs 50 Mile Winter Challenge
DESCRIPTION: Yankee Springs 50 Mile Winter Challenge\n
  \n
  kim[at]switchbackendurance.com
DTSTART:20240106T060000
DTEND:00000000T235900
LOCATION:Middleville, MI\, USA
URL:https://switchbackendurance.com/races/winter-challenge/
CATEGORIES:Ultramarathon
CONTACT:
CLASS:PUBLIC
PRIORITY:5
TRANSP:OPAQUE
END:VEVENT
END:VCALENDAR
