BEGIN:VCALENDAR
PRODID:-//http://statistik.d-u-v.org//PHP ultracalendar//EN
VERSION:2.0
METHOD:PUBLISH
BEGIN:VEVENT
DTSTAMP:20260422T231429
CREATED:20240222T094143
UID:1776899669.0.90693000-105330@statistik.d-u-v.org
SUMMARY:Atromitos Ultra - 12h
DESCRIPTION: Atromitos Ultra - 12h\n
  Christos Mavrikios\n
  xristos_mavrikios[at]yahoo.gr; atromitosteam[at]gmail.com
DTSTART:20240413T090000
DTEND:20240413T210000
LOCATION:Marathon\, GRE
URL:https://www.fearlessevents.gr/en/atromitos-ultra
CATEGORIES:Ultramarathon
CONTACT:Christos Mavrikios
CLASS:PUBLIC
PRIORITY:5
TRANSP:OPAQUE
END:VEVENT
END:VCALENDAR
