BEGIN:VCALENDAR
PRODID:-//http://statistik.d-u-v.org//PHP ultracalendar//EN
VERSION:2.0
METHOD:PUBLISH
BEGIN:VEVENT
DTSTAMP:20260426T004829
CREATED:20240220T161543
UID:1777164509.0.39157400-105300@statistik.d-u-v.org
SUMMARY:QUAN Ultra Run
DESCRIPTION: QUAN Ultra Run\n
  \n
  
DTSTART:20230408T070000
DTEND:00000000T235900
LOCATION:Beijing City\, CHN
URL:https://itra.run/Races/RaceDetails/QUAN%5E2.54km/2023/85147
CATEGORIES:Ultramarathon
CONTACT:
CLASS:PUBLIC
PRIORITY:5
TRANSP:OPAQUE
END:VEVENT
END:VCALENDAR
