BEGIN:VCALENDAR
PRODID:-//http://statistik.d-u-v.org//PHP ultracalendar//EN
VERSION:2.0
METHOD:PUBLISH
BEGIN:VEVENT
DTSTAMP:20260426T004832
CREATED:20240219T151541
UID:1777164512.0.30482700-105246@statistik.d-u-v.org
SUMMARY:Fragrant Hill 175 km
DESCRIPTION: Fragrant Hill 175 km\n
  \n
  
DTSTART:20231001T050000
DTEND:20231003T170000
LOCATION:Beijing City\, CHN
URL:https://www.sohu.com/a/694040112_121124664
CATEGORIES:Ultramarathon
CONTACT:
CLASS:PUBLIC
PRIORITY:5
TRANSP:OPAQUE
END:VEVENT
END:VCALENDAR
