BEGIN:VCALENDAR
PRODID:-//http://statistik.d-u-v.org//PHP ultracalendar//EN
VERSION:2.0
METHOD:PUBLISH
BEGIN:VEVENT
DTSTAMP:20260419T192552
CREATED:20240218T112457
UID:1776626752.0.29761200-105212@statistik.d-u-v.org
SUMMARY:Red Barn 6 Hour Challenge
DESCRIPTION: Red Barn 6 Hour Challenge\n
  \n
  marzellanikki[at]gmail.com
DTSTART:20241005T130000
DTEND:00000000T235900
LOCATION:Lykens, PA\, USA
URL:https://redbarnchallenge.godaddysites.com/
CATEGORIES:Ultramarathon
CONTACT:
CLASS:PUBLIC
PRIORITY:5
TRANSP:OPAQUE
END:VEVENT
END:VCALENDAR
