BEGIN:VCALENDAR
PRODID:-//http://statistik.d-u-v.org//PHP ultracalendar//EN
VERSION:2.0
METHOD:PUBLISH
BEGIN:VEVENT
DTSTAMP:20260422T211820
CREATED:20240218T102351
UID:1776892700.0.41153700-105196@statistik.d-u-v.org
SUMMARY:Backyard Ultra World Team Championships - Finland
DESCRIPTION: Backyard Ultra World Team Championships - Finland\n
  Onni Vähäaho\n
  info[at]nivalanpolku.fi
DTSTART:20241019T210000
DTEND:20241021T130000
LOCATION:Nivala\, FIN
URL:https://nivalanpolku.fi/
CATEGORIES:Ultramarathon
CONTACT:Onni Vähäaho
CLASS:PUBLIC
PRIORITY:5
TRANSP:OPAQUE
END:VEVENT
END:VCALENDAR
