BEGIN:VCALENDAR
PRODID:-//http://statistik.d-u-v.org//PHP ultracalendar//EN
VERSION:2.0
METHOD:PUBLISH
BEGIN:VEVENT
DTSTAMP:20260419T140113
CREATED:20240130T163644
UID:1776607273.0.24885300-104827@statistik.d-u-v.org
SUMMARY:24-Stunden-Lauf TuS Breitscheid
DESCRIPTION: 24-Stunden-Lauf TuS Breitscheid\n
  Svenja Bock-Fischer\n
  24stunden[at]tus-breitscheid.de
DTSTART:20240913T180000
DTEND:20240914T180000
LOCATION:Ratingen\, GER
URL:https://tus-breitscheid.de/24hlauf/
CATEGORIES:Ultramarathon
CONTACT:Svenja Bock-Fischer
CLASS:PUBLIC
PRIORITY:5
TRANSP:OPAQUE
END:VEVENT
END:VCALENDAR
