BEGIN:VCALENDAR
PRODID:-//http://statistik.d-u-v.org//PHP ultracalendar//EN
VERSION:2.0
METHOD:PUBLISH
BEGIN:VEVENT
DTSTAMP:20260420T035144
CREATED:20240129T162715
UID:1776657104.0.99540400-104771@statistik.d-u-v.org
SUMMARY:Vietnam Ultra Marathon
DESCRIPTION: Vietnam Ultra Marathon\n
  \n
  info[at]vietnamultramarathon.com
DTSTART:20240323T050000
DTEND:20240324T235900
LOCATION:Mai Chau\, VIE
URL:https://vietnamtrailseries.com/ultra-marathon/
CATEGORIES:Ultramarathon
CONTACT:
CLASS:PUBLIC
PRIORITY:5
TRANSP:OPAQUE
END:VEVENT
END:VCALENDAR
