BEGIN:VCALENDAR
PRODID:-//http://statistik.d-u-v.org//PHP ultracalendar//EN
VERSION:2.0
METHOD:PUBLISH
BEGIN:VEVENT
DTSTAMP:20260419T203018
CREATED:20110408T162210
UID:1776630618.0.32977700-10475@statistik.d-u-v.org
SUMMARY:Nanango 1000 Mile Track Race
DESCRIPTION: Nanango 1000 Mile Track Race\n
  \n
  
DTSTART:19960313T000000
DTEND:19960329T235900
LOCATION:Nanango, QLD\, AUS
URL:
CATEGORIES:Ultramarathon
CONTACT:
CLASS:PUBLIC
PRIORITY:5
TRANSP:OPAQUE
END:VEVENT
END:VCALENDAR
