BEGIN:VCALENDAR
PRODID:-//http://statistik.d-u-v.org//PHP ultracalendar//EN
VERSION:2.0
METHOD:PUBLISH
BEGIN:VEVENT
DTSTAMP:20260423T033645
CREATED:20240129T133930
UID:1776915405.0.72443200-104743@statistik.d-u-v.org
SUMMARY:Bocksten Vineyard Backyard Ultra
DESCRIPTION: Bocksten Vineyard Backyard Ultra\n
  Mattias Skärbäck\n
  info[at]bockstentrailrun.se
DTSTART:20240907T090000
DTEND:20240908T235900
LOCATION:TVÅÅKER\, SWE
URL:http://www.bockstentrailrun.se
CATEGORIES:Ultramarathon
CONTACT:Mattias Skärbäck
CLASS:PUBLIC
PRIORITY:5
TRANSP:OPAQUE
END:VEVENT
END:VCALENDAR
