BEGIN:VCALENDAR
PRODID:-//http://statistik.d-u-v.org//PHP ultracalendar//EN
VERSION:2.0
METHOD:PUBLISH
BEGIN:VEVENT
DTSTAMP:20260419T192615
CREATED:20240123T170142
UID:1776626775.0.95902600-104598@statistik.d-u-v.org
SUMMARY:Collie River Ultra 100km
DESCRIPTION: Collie River Ultra 100km\n
  Melina Mellino\n
  melina[at]perthtrailseries.com.au
DTSTART:20240908T060000
DTEND:00000000T235900
LOCATION:Collie, WA\, AUS
URL:http://perthtrailseries.com.au
CATEGORIES:Ultramarathon
CONTACT:Melina Mellino
CLASS:PUBLIC
PRIORITY:5
TRANSP:OPAQUE
END:VEVENT
END:VCALENDAR
