BEGIN:VCALENDAR
PRODID:-//http://statistik.d-u-v.org//PHP ultracalendar//EN
VERSION:2.0
METHOD:PUBLISH
BEGIN:VEVENT
DTSTAMP:20260419T164917
CREATED:20240122T170832
UID:1776617357.0.51196700-104574@statistik.d-u-v.org
SUMMARY:Phatad Trail 70km
DESCRIPTION: Phatad Trail 70km\n
  \n
  
DTSTART:20240518T000000
DTEND:00000000T235900
LOCATION:Khaokho\, THA
URL:https://www.facebook.com/phatadtrail/
CATEGORIES:Ultramarathon
CONTACT:
CLASS:PUBLIC
PRIORITY:5
TRANSP:OPAQUE
END:VEVENT
END:VCALENDAR
