BEGIN:VCALENDAR
PRODID:-//http://statistik.d-u-v.org//PHP ultracalendar//EN
VERSION:2.0
METHOD:PUBLISH
BEGIN:VEVENT
DTSTAMP:20260424T160626
CREATED:20240120T105720
UID:1777046786.0.60534400-104541@statistik.d-u-v.org
SUMMARY:WSUT70 Wörthersee Ungetüm
DESCRIPTION: WSUT70 Wörthersee Ungetüm\n
  Leopold Durchner\n
  info[at]kut80.at
DTSTART:20240518T060000
DTEND:20240518T200000
LOCATION:Klagenfurt\, AUT
URL:http://www.wsut70.at
CATEGORIES:Ultramarathon
CONTACT:Leopold Durchner
CLASS:PUBLIC
PRIORITY:5
TRANSP:OPAQUE
END:VEVENT
END:VCALENDAR
