BEGIN:VCALENDAR
PRODID:-//http://statistik.d-u-v.org//PHP ultracalendar//EN
VERSION:2.0
METHOD:PUBLISH
BEGIN:VEVENT
DTSTAMP:20260423T033651
CREATED:20240119T065825
UID:1776915411.0.73600500-104494@statistik.d-u-v.org
SUMMARY:The Westwind Trail - The Home Straight 60K
DESCRIPTION: The Westwind Trail - The Home Straight 60K\n
  \n
  info[at]thewestwindtrail.run
DTSTART:20231014T050000
DTEND:00000000T235900
LOCATION:Mae Hong Son\, THA
URL:https://thewestwindtrail.run/
CATEGORIES:Ultramarathon
CONTACT:
CLASS:PUBLIC
PRIORITY:5
TRANSP:OPAQUE
END:VEVENT
END:VCALENDAR
