BEGIN:VCALENDAR
PRODID:-//http://statistik.d-u-v.org//PHP ultracalendar//EN
VERSION:2.0
METHOD:PUBLISH
BEGIN:VEVENT
DTSTAMP:20260419T192437
CREATED:20240118T013438
UID:1776626677.0.23522500-104447@statistik.d-u-v.org
SUMMARY:Pong Yaeng 70 Km Trail (PTY70)
DESCRIPTION: Pong Yaeng 70 Km Trail (PTY70)\n
  \n
  info[at]pyt.run
DTSTART:20231111T060000
DTEND:00000000T235900
LOCATION:Chiang Mai\, THA
URL:https://www.facebook.com/PYT.run/
CATEGORIES:Ultramarathon
CONTACT:
CLASS:PUBLIC
PRIORITY:5
TRANSP:OPAQUE
END:VEVENT
END:VCALENDAR
