BEGIN:VCALENDAR
PRODID:-//http://statistik.d-u-v.org//PHP ultracalendar//EN
VERSION:2.0
METHOD:PUBLISH
BEGIN:VEVENT
DTSTAMP:20260424T191244
CREATED:20110401T180125
UID:1777057964.0.06491800-10442@statistik.d-u-v.org
SUMMARY:Old Goat's 50 Mile Trail Race
DESCRIPTION: Old Goat's 50 Mile Trail Race\n
  \n
  
DTSTART:20071110T000000
DTEND:00000000T235900
LOCATION:San Juan Capistrano, CA\, USA
URL:http://www.oldgoatrunners.com/old_goat_50_home_page_005.htm
CATEGORIES:Ultramarathon
CONTACT:
CLASS:PUBLIC
PRIORITY:5
TRANSP:OPAQUE
END:VEVENT
END:VCALENDAR
