BEGIN:VCALENDAR
PRODID:-//http://statistik.d-u-v.org//PHP ultracalendar//EN
VERSION:2.0
METHOD:PUBLISH
BEGIN:VEVENT
DTSTAMP:20260422T194015
CREATED:20240115T165022
UID:1776886815.0.89989600-104351@statistik.d-u-v.org
SUMMARY:Balik Pulau Endurance Fiesta
DESCRIPTION: Balik Pulau Endurance Fiesta\n
  \n
  ofrarunningsquad[at]gmail.com
DTSTART:20231111T220000
DTEND:20231112T040000
LOCATION:Pulau Pinang\, MAS
URL:https://v2.checkpointspot.asia/event/BPenduranceFiesta
CATEGORIES:Ultramarathon
CONTACT:
CLASS:PUBLIC
PRIORITY:5
TRANSP:OPAQUE
END:VEVENT
END:VCALENDAR
