BEGIN:VCALENDAR
PRODID:-//http://statistik.d-u-v.org//PHP ultracalendar//EN
VERSION:2.0
METHOD:PUBLISH
BEGIN:VEVENT
DTSTAMP:20260423T044332
CREATED:20240109T202228
UID:1776919412.0.85784700-104123@statistik.d-u-v.org
SUMMARY:Dublin 2 Belfast Ultra
DESCRIPTION: Dublin 2 Belfast Ultra\n
  Adrian and Sammy Daye\n
  atlas[at]atlasrunning.co.uk
DTSTART:20240412T120000
DTEND:20240413T235900
LOCATION:Dublin\, IRL
URL:https://www.atlasrunning.co.uk/dublin-to-belfast
CATEGORIES:Ultramarathon
CONTACT:Adrian and Sammy Daye
CLASS:PUBLIC
PRIORITY:5
TRANSP:OPAQUE
END:VEVENT
END:VCALENDAR
