BEGIN:VCALENDAR
PRODID:-//http://statistik.d-u-v.org//PHP ultracalendar//EN
VERSION:2.0
METHOD:PUBLISH
BEGIN:VEVENT
DTSTAMP:20260419T164805
CREATED:20240109T081455
UID:1776617285.0.25922000-104081@statistik.d-u-v.org
SUMMARY:Manchester to Liverpool Ultra 50
DESCRIPTION: Manchester to Liverpool Ultra 50\n
  Wayne Drinkwater\n
  info[at]gbultras.com
DTSTART:20240329T060000
DTEND:00000000T235900
LOCATION:Manchester\, GBR
URL:https://www.gbultras.com
CATEGORIES:Ultramarathon
CONTACT:Wayne Drinkwater
CLASS:PUBLIC
PRIORITY:5
TRANSP:OPAQUE
END:VEVENT
END:VCALENDAR
