BEGIN:VCALENDAR
PRODID:-//http://statistik.d-u-v.org//PHP ultracalendar//EN
VERSION:2.0
METHOD:PUBLISH
BEGIN:VEVENT
DTSTAMP:20260420T012840
CREATED:20240107T170910
UID:1776648520.0.48641700-104019@statistik.d-u-v.org
SUMMARY:The Grand Tour of Skiddaw
DESCRIPTION: The Grand Tour of Skiddaw\n
  Nici Griffin\n
  hello[at]grandtourofskiddaw.co.uk
DTSTART:20240810T080000
DTEND:20240811T235900
LOCATION:Carlisle\, GBR
URL:http://www.grandtourofskiddaw.co.uk/
CATEGORIES:Ultramarathon
CONTACT:Nici Griffin
CLASS:PUBLIC
PRIORITY:5
TRANSP:OPAQUE
END:VEVENT
END:VCALENDAR
