BEGIN:VCALENDAR
PRODID:-//http://statistik.d-u-v.org//PHP ultracalendar//EN
VERSION:2.0
METHOD:PUBLISH
BEGIN:VEVENT
DTSTAMP:20260426T001423
CREATED:20240107T164408
UID:1777162463.0.32586500-104015@statistik.d-u-v.org
SUMMARY:4TUL 100km Warrior
DESCRIPTION: 4TUL 100km Warrior\n
  \n
  info4tulr189[at]gmail.com
DTSTART:20240329T070000
DTEND:20240330T090000
LOCATION:Hong Kong\, HKG
URL:https://www.facebook.com/4TUL.Route189/
CATEGORIES:Ultramarathon
CONTACT:
CLASS:PUBLIC
PRIORITY:5
TRANSP:OPAQUE
END:VEVENT
END:VCALENDAR
