BEGIN:VCALENDAR
PRODID:-//http://statistik.d-u-v.org//PHP ultracalendar//EN
VERSION:2.0
METHOD:PUBLISH
BEGIN:VEVENT
DTSTAMP:20260423T020704
CREATED:20240102T224528
UID:1776910024.0.61977200-103930@statistik.d-u-v.org
SUMMARY:Paramount Ranch Trail Run 12h
DESCRIPTION: Paramount Ranch Trail Run 12h\n
  Keira Henninger\n
  leonaracedirector[at]gmail.com
DTSTART:20231216T070000
DTEND:00000000T235900
LOCATION:Agoura Hills, CA\, USA
URL:http://paramountranchtrailruns.com/
CATEGORIES:Ultramarathon
CONTACT:Keira Henninger
CLASS:PUBLIC
PRIORITY:5
TRANSP:OPAQUE
END:VEVENT
END:VCALENDAR
