BEGIN:VCALENDAR
PRODID:-//http://statistik.d-u-v.org//PHP ultracalendar//EN
VERSION:2.0
METHOD:PUBLISH
BEGIN:VEVENT
DTSTAMP:20260420T044143
CREATED:20231229T001148
UID:1776660103.0.75987300-103836@statistik.d-u-v.org
SUMMARY:Trail des 3 Couvents - Grande Chartreuse - en duo
DESCRIPTION: Trail des 3 Couvents - Grande Chartreuse - en duo\n
  Jonathan Gailhot\n
  jonathan.gailhot[at]gmail.com
DTSTART:20240428T070000
DTEND:00000000T235900
LOCATION:Saint-Laurent-du-Pont\, FRA
URL:https://fr.peyce.com/event/trail-des-3-couvents-4712
CATEGORIES:Ultramarathon
CONTACT:Jonathan Gailhot
CLASS:PUBLIC
PRIORITY:5
TRANSP:OPAQUE
END:VEVENT
END:VCALENDAR
