BEGIN:VCALENDAR
PRODID:-//http://statistik.d-u-v.org//PHP ultracalendar//EN
VERSION:2.0
METHOD:PUBLISH
BEGIN:VEVENT
DTSTAMP:20260423T012426
CREATED:20231226T175024
UID:1776907466.0.65715200-103771@statistik.d-u-v.org
SUMMARY:The Border 100 - 50 Km Race
DESCRIPTION: The Border 100 - 50 Km Race\n
  Vishwas Sindhu\n
  vishwas[at]thehellrace.com
DTSTART:20221203T091500
DTEND:00000000T235900
LOCATION:Jaisalmer, Rajashthan\, IND
URL:http://thehellrace.com
CATEGORIES:Ultramarathon
CONTACT:Vishwas Sindhu
CLASS:PUBLIC
PRIORITY:5
TRANSP:OPAQUE
END:VEVENT
END:VCALENDAR
