BEGIN:VCALENDAR
PRODID:-//http://statistik.d-u-v.org//PHP ultracalendar//EN
VERSION:2.0
METHOD:PUBLISH
BEGIN:VEVENT
DTSTAMP:20260424T172600
CREATED:20231226T133854
UID:1777051560.0.60591000-103762@statistik.d-u-v.org
SUMMARY:Malaybalay Ultra Trail - Final Leg
DESCRIPTION: Malaybalay Ultra Trail - Final Leg\n
  \n
  
DTSTART:20230826T060000
DTEND:00000000T235900
LOCATION:Malaybalay City\, PHI
URL:https://malaybalayultratrail.com/
CATEGORIES:Ultramarathon
CONTACT:
CLASS:PUBLIC
PRIORITY:5
TRANSP:OPAQUE
END:VEVENT
END:VCALENDAR
