BEGIN:VCALENDAR
PRODID:-//http://statistik.d-u-v.org//PHP ultracalendar//EN
VERSION:2.0
METHOD:PUBLISH
BEGIN:VEVENT
DTSTAMP:20260425T171702
CREATED:20231226T082442
UID:1777137422.0.45015900-103750@statistik.d-u-v.org
SUMMARY:Bagtit Ultra 50
DESCRIPTION: Bagtit Ultra 50\n
  \n
  thepacerepublic[at]gmail.com
DTSTART:20240211T020000
DTEND:00000000T235900
LOCATION:Luzon\, PHI
URL:https://thepacerepublicph.com/bagtit-ultra-2024-3rd-edition/
CATEGORIES:Ultramarathon
CONTACT:
CLASS:PUBLIC
PRIORITY:5
TRANSP:OPAQUE
END:VEVENT
END:VCALENDAR
